BEGIN:VCALENDAR
VERSION:2.0
PRODID:-//wp-events-plugin.com//7.2.3.1//EN
TZID:America/Denver
X-WR-TIMEZONE:America/Denver
BEGIN:VEVENT
UID:292@durangouu.org
DTSTART;TZID=America/Denver:20200601T183000
DTEND;TZID=America/Denver:20200601T183000
DTSTAMP:20200529T230406Z
URL:https://durangouu.org/events/book-group/
SUMMARY:Book Group
DESCRIPTION:Book lovers of all kinds! \n\nJoin us at this first gathering o
 f UUFD readers. Fiction\, non-fiction\, it's all good!\n\nBring along a bo
 ok or two to reccomend to the group.\n\nQuestions? faithformation@durango
 uu.org     Click Zoom link to attend...
LOCATION:Unitarian Universalist Fellowship\, 419 San Juan Dr.\, Durango\, C
 O\, United States
GEO:37.289819;-107.88081999999997
X-APPLE-STRUCTURED-LOCATION;VALUE=URI;X-ADDRESS=419 San Juan Dr.\, Durango\
 , CO\, United States;X-APPLE-RADIUS=100;X-TITLE=Unitarian Universalist Fel
 lowship:geo:37.289819,-107.88081999999997
END:VEVENT
BEGIN:VTIMEZONE
TZID:America/Denver
X-LIC-LOCATION:America/Denver
BEGIN:DAYLIGHT
DTSTART:20200308T030000
TZOFFSETFROM:-0700
TZOFFSETTO:-0600
TZNAME:MDT
END:DAYLIGHT
END:VTIMEZONE
END:VCALENDAR