BEGIN:VCALENDAR
VERSION:2.0
PRODID:-//wp-events-plugin.com//7.2.3.1//EN
TZID:America/Denver
X-WR-TIMEZONE:America/Denver
BEGIN:VEVENT
UID:1243@durangouu.org
DTSTART;TZID=America/Denver:20211224T173000
DTEND;TZID=America/Denver:20211224T183000
DTSTAMP:20211224T220855Z
URL:https://durangouu.org/events/christmas-eve-service-5-pm/
SUMMARY:Christmas Eve Service - 5:30 PM
DESCRIPTION:Join us for Christmas Eve Services.\n\n\n\nReserve your space f
 or the 5:30 service.\n&nbsp\;\nAttendance is\, of course\, free\, but in p
 erson attendance is limited so please reserve your space here for the 5:30
  pm service.\nAs always\, the services will also be live-streamed on Zoom.
 \nFormat of these services may change depending on Covid transmission in o
 ur community.\n\n
LOCATION:Unitarian Universalist Fellowship\, 419 San Juan Dr.\, Durango\, C
 O\, United States
GEO:37.289819;-107.88081999999997
X-APPLE-STRUCTURED-LOCATION;VALUE=URI;X-ADDRESS=419 San Juan Dr.\, Durango\
 , CO\, United States;X-APPLE-RADIUS=100;X-TITLE=Unitarian Universalist Fel
 lowship:geo:37.289819,-107.88081999999997
END:VEVENT
BEGIN:VTIMEZONE
TZID:America/Denver
X-LIC-LOCATION:America/Denver
BEGIN:STANDARD
DTSTART:20211107T010000
TZOFFSETFROM:-0600
TZOFFSETTO:-0700
TZNAME:MST
END:STANDARD
END:VTIMEZONE
END:VCALENDAR