BEGIN:VCALENDAR
VERSION:2.0
PRODID:-//wp-events-plugin.com//7.2.3.1//EN
TZID:America/Denver
X-WR-TIMEZONE:America/Denver
BEGIN:VEVENT
UID:286@durangouu.org
DTSTART;TZID=America/Denver:20200509T100000
DTEND;TZID=America/Denver:20200509T110000
DTSTAMP:20200506T211037Z
URL:https://durangouu.org/events/church-budget-chalk-talk/
SUMMARY:Church Budget "Chalk Talk"
DESCRIPTION:Join Finance for budget "chalk talk" via Zoom\nSat.\, May 9 at
  10 am\nAll are welcome to join The Finance Committee as they host a Zoom 
 meeting to discuss the upcoming church year’s proposed operating budget 
 on Saturday\, May 9\, 2020 at 10am.\nTo join the meeting\, click here... a
 nd use password 046601 if prompted.\nThis budget will be recommended for a
 doption at UUFD’s Annual Meeting on Sunday\, May 17\, 2020.\nClick here 
 to preview the FY21 budget...\nClick here for FY21 Budget Highlights...
CATEGORIES:Special Event
LOCATION:Unitarian Universalist Fellowship\, 419 San Juan Dr.\, Durango\, C
 O\, United States
GEO:37.289819;-107.88081999999997
X-APPLE-STRUCTURED-LOCATION;VALUE=URI;X-ADDRESS=419 San Juan Dr.\, Durango\
 , CO\, United States;X-APPLE-RADIUS=100;X-TITLE=Unitarian Universalist Fel
 lowship:geo:37.289819,-107.88081999999997
END:VEVENT
BEGIN:VTIMEZONE
TZID:America/Denver
X-LIC-LOCATION:America/Denver
BEGIN:DAYLIGHT
DTSTART:20200308T030000
TZOFFSETFROM:-0700
TZOFFSETTO:-0600
TZNAME:MDT
END:DAYLIGHT
END:VTIMEZONE
END:VCALENDAR