BEGIN:VCALENDAR
VERSION:2.0
PRODID:-//wp-events-plugin.com//7.2.3.1//EN
TZID:America/Denver
X-WR-TIMEZONE:America/Denver
BEGIN:VEVENT
UID:277@durangouu.org
DTSTART;TZID=America/Denver:20200314T140000
DTEND;TZID=America/Denver:20200314T140000
DTSTAMP:20200314T003529Z
URL:https://durangouu.org/events/memorial-service-mary-ruth-bowman/
SUMMARY:Memorial Service Postponed\, Mary Ruth Bowman
DESCRIPTION:\n\n\n\n\n\n\n\n\n\n\n\n\n\n\n\n\n\n\n\n\n\n\n\n\nAfter lots of
  careful thought and consideration\, the Bowman family has decided to post
 pone Saturday's memorial service for their beloved mother\, Mary Ruth.\n\n
 \nAnyone who feels comfortable is invited to join us for a brief internmen
 t service to be held at 2pm at Greenmont Cemetery.\n\nAs a public health n
 urse\, Mary Ruth would affirm this decision.\n\nBlessings to you all durin
 g these days\,\n\nRev. Katie\n\n\n\n\n\n\n\n
CATEGORIES:Memorial Service
LOCATION:Unitarian Universalist Fellowship\, 419 San Juan Dr.\, Durango\, C
 O\, United States
GEO:37.289819;-107.88081999999997
X-APPLE-STRUCTURED-LOCATION;VALUE=URI;X-ADDRESS=419 San Juan Dr.\, Durango\
 , CO\, United States;X-APPLE-RADIUS=100;X-TITLE=Unitarian Universalist Fel
 lowship:geo:37.289819,-107.88081999999997
END:VEVENT
BEGIN:VTIMEZONE
TZID:America/Denver
X-LIC-LOCATION:America/Denver
BEGIN:DAYLIGHT
DTSTART:20200308T030000
TZOFFSETFROM:-0700
TZOFFSETTO:-0600
TZNAME:MDT
END:DAYLIGHT
END:VTIMEZONE
END:VCALENDAR