BEGIN:VCALENDAR
VERSION:2.0
PRODID:-//wp-events-plugin.com//7.2.3.1//EN
TZID:America/Denver
X-WR-TIMEZONE:America/Denver
BEGIN:VEVENT
UID:455@durangouu.org
DTSTART;TZID=America/Denver:20210513T160000
DTEND;TZID=America/Denver:20210513T170000
DTSTAMP:20210408T195440Z
URL:https://durangouu.org/events/ministers-circle-2021-05-13/
SUMMARY:Minister's Circle
DESCRIPTION:Please check in\, consider the monthly theme\, and share what's
  on your mind and heart. We'll listen to a little music and enjoy each oth
 er's company.\n\nHere's the link to join our online gathering: join here.
END:VEVENT
BEGIN:VTIMEZONE
TZID:America/Denver
X-LIC-LOCATION:America/Denver
BEGIN:DAYLIGHT
DTSTART:20210314T030000
TZOFFSETFROM:-0700
TZOFFSETTO:-0600
TZNAME:MDT
END:DAYLIGHT
END:VTIMEZONE
END:VCALENDAR