BEGIN:VCALENDAR
VERSION:2.0
PRODID:-//wp-events-plugin.com//7.2.3.1//EN
TZID:America/Denver
X-WR-TIMEZONE:America/Denver
BEGIN:VEVENT
UID:273@durangouu.org
DTSTART;TZID=America/Denver:20200201T133000
DTEND;TZID=America/Denver:20200201T153000
DTSTAMP:20200123T165743Z
URL:https://durangouu.org/events/my-story-workshop-2/
SUMMARY:My Story Workshop
DESCRIPTION:My Story workshop: writing as a way of discovery\, introspectio
 n and spirit\nFebruary 1\, 1:30 to 3:30 p.m.\, Bowman Hall. Hosted by UUFD
  communications committee member Bobbi Maiers.\nWe all have stories to tel
 l\, be they grand or quiet. Come learn strategies for writing from your li
 fe — we’ll brainstorm ideas\, consider the wide spectrum of stories we
  have to tell\, and talk about how to begin putting things down on the pag
 e and confront the challenges and joys of the full writing process. It’s
  an act of great courage\, and in our workshop\, one of kinship too.\n\nAl
 l are welcome\, and those interested in someday sharing a My Story piece w
 ith the congregation are especially encouraged to attend.\nTo register\, e
 mail bobbi
CATEGORIES:Adult,Learning
LOCATION:Bowman Hall\, 419 San Juan Dr.\, Durango\, CO\, United States
GEO:37.289819;-107.88081999999997
X-APPLE-STRUCTURED-LOCATION;VALUE=URI;X-ADDRESS=419 San Juan Dr.\, Durango\
 , CO\, United States;X-APPLE-RADIUS=100;X-TITLE=Bowman Hall:geo:37.289819,
 -107.88081999999997
END:VEVENT
BEGIN:VTIMEZONE
TZID:America/Denver
X-LIC-LOCATION:America/Denver
BEGIN:STANDARD
DTSTART:20191103T010000
TZOFFSETFROM:-0600
TZOFFSETTO:-0700
TZNAME:MST
END:STANDARD
END:VTIMEZONE
END:VCALENDAR