BEGIN:VCALENDAR
VERSION:2.0
PRODID:-//wp-events-plugin.com//7.2.3.1//EN
TZID:America/Denver
X-WR-TIMEZONE:America/Denver
BEGIN:VEVENT
UID:335@durangouu.org
DTSTART;TZID=America/Denver:20210213T130000
DTEND;TZID=America/Denver:20210213T180000
DTSTAMP:20210213T003724Z
URL:https://durangouu.org/events/pacific-western-regional-assembly/
SUMMARY:Pacific Western Regional Assembly
DESCRIPTION:All are welcome to sign up to attend the virtual gathering of o
 ur UUA region. It'll be held Saturday\, February 13th from 1pm-6pm. Here's
  the link to learn more and register.
CATEGORIES:UUA Regional Meetings
END:VEVENT
BEGIN:VTIMEZONE
TZID:America/Denver
X-LIC-LOCATION:America/Denver
BEGIN:STANDARD
DTSTART:20201101T010000
TZOFFSETFROM:-0600
TZOFFSETTO:-0700
TZNAME:MST
END:STANDARD
END:VTIMEZONE
END:VCALENDAR