BEGIN:VCALENDAR
VERSION:2.0
PRODID:-//wp-events-plugin.com//7.2.3.1//EN
TZID:America/Denver
X-WR-TIMEZONE:America/Denver
BEGIN:VEVENT
UID:1226@durangouu.org
DTSTART;TZID=America/Denver:20220424T190000
DTEND;TZID=America/Denver:20220424T213000
DTSTAMP:20220307T193225Z
URL:https://durangouu.org/events/recital-series-andreas-tischhauser-marily
 n-garst/
SUMMARY:Recital Series - Andreas Tischhauser & Marilyn Garst
DESCRIPTION:Please note - the date for this recital has been changed from A
 pril 22 to April 24.\n\n&nbsp\;\n\nRecital by Andreas Tischhauser\, flute\
 , and Marilyn Garst\, piano.\n\nThey will perform four duos by 20th-centur
 y composers from four countries\, the U.S.\, France\, Russia\, and Czechos
 lovakia.
CATEGORIES:Music,Special Event
END:VEVENT
BEGIN:VTIMEZONE
TZID:America/Denver
X-LIC-LOCATION:America/Denver
BEGIN:DAYLIGHT
DTSTART:20220313T030000
TZOFFSETFROM:-0700
TZOFFSETTO:-0600
TZNAME:MDT
END:DAYLIGHT
END:VTIMEZONE
END:VCALENDAR