BEGIN:VCALENDAR
VERSION:2.0
PRODID:-//wp-events-plugin.com//7.2.3.1//EN
TZID:America/Denver
X-WR-TIMEZONE:America/Denver
BEGIN:VEVENT
UID:321@durangouu.org
DTSTART;TZID=America/Denver:20201104T170000
DTEND;TZID=America/Denver:20201104T173000
DTSTAMP:20201104T164230Z
URL:https://durangouu.org/events/special-ministers-circle/
SUMMARY:Special Minister's Circle
DESCRIPTION:Join Rev. Katie for a brief Minister's Circle this evening fro
 m 5-5:30pm. Click on this Zoom link... and we'll see each other's faces an
 d share hopes and sorrows.\n&nbsp\;
LOCATION:Zoom\, 419 San Juan Dr.\, Durango\, CO\, 81301\, United States
X-APPLE-STRUCTURED-LOCATION;VALUE=URI;X-ADDRESS=419 San Juan Dr.\, Durango\
 , CO\, 81301\, United States;X-APPLE-RADIUS=100;X-TITLE=Zoom:geo:0,0
END:VEVENT
BEGIN:VTIMEZONE
TZID:America/Denver
X-LIC-LOCATION:America/Denver
BEGIN:STANDARD
DTSTART:20201101T010000
TZOFFSETFROM:-0600
TZOFFSETTO:-0700
TZNAME:MST
END:STANDARD
END:VTIMEZONE
END:VCALENDAR