BEGIN:VCALENDAR
VERSION:2.0
PRODID:-//wp-events-plugin.com//7.2.3.1//EN
TZID:America/Denver
X-WR-TIMEZONE:America/Denver
BEGIN:VEVENT
UID:258@durangouu.org
DTSTART;TZID=America/Denver:20191117T170000
DTEND;TZID=America/Denver:20191117T170000
DTSTAMP:20220131T030232Z
URL:https://durangouu.org/events/transgender-day-of-remembrance-2/
SUMMARY:Transgender Day of Remembrance
DESCRIPTION:Transgender Day of Remembrance\nSunday November 17th 5:00 pm in
  the Sanctuary.\nAs allies to our transgender neighbors\, we can show supp
 ort by joining in this significant commemorative event.\n\n
CATEGORIES:Social Responsibility &amp; Justice Activity
LOCATION:Sanctuary\, 419 San Juan Dr.\, Durango\, CO\, 81301\, United State
 s
GEO:37.289819;-107.88081999999997
X-APPLE-STRUCTURED-LOCATION;VALUE=URI;X-ADDRESS=419 San Juan Dr.\, Durango\
 , CO\, 81301\, United States;X-APPLE-RADIUS=100;X-TITLE=Sanctuary:geo:37.2
 89819,-107.88081999999997
END:VEVENT
BEGIN:VTIMEZONE
TZID:America/Denver
X-LIC-LOCATION:America/Denver
BEGIN:STANDARD
DTSTART:20191103T010000
TZOFFSETFROM:-0600
TZOFFSETTO:-0700
TZNAME:MST
END:STANDARD
END:VTIMEZONE
END:VCALENDAR